Package: DepecheR Version: 1.25.0 Command: /home/biocbuild/R/R/bin/R CMD check --install=check:DepecheR.install-out.txt --library=/home/biocbuild/R/R/site-library --no-vignettes --timings DepecheR_1.25.0.tar.gz StartedAt: 2025-10-03 06:30:53 -0000 (Fri, 03 Oct 2025) EndedAt: 2025-10-03 06:33:30 -0000 (Fri, 03 Oct 2025) EllapsedTime: 157.2 seconds RetCode: 0 Status: WARNINGS CheckDir: DepecheR.Rcheck Warnings: 1