Package: DepecheR Version: 1.25.0 Command: /Library/Frameworks/R.framework/Resources/bin/R CMD INSTALL DepecheR StartedAt: 2025-10-05 15:12:58 -0400 (Sun, 05 Oct 2025) EndedAt: 2025-10-05 15:13:32 -0400 (Sun, 05 Oct 2025) EllapsedTime: 34.2 seconds RetCode: 0 Status: OK