Package: DepecheR Version: 1.25.0 Command: /Library/Frameworks/R.framework/Resources/bin/R CMD check --install=check:DepecheR.install-out.txt --library=/Library/Frameworks/R.framework/Resources/library --no-vignettes --timings DepecheR_1.25.0.tar.gz StartedAt: 2025-10-05 21:00:26 -0400 (Sun, 05 Oct 2025) EndedAt: 2025-10-05 21:04:00 -0400 (Sun, 05 Oct 2025) EllapsedTime: 213.9 seconds RetCode: 0 Status: OK CheckDir: DepecheR.Rcheck Warnings: 0