Package: DepecheR Version: 1.25.0 Command: /Library/Frameworks/R.framework/Resources/bin/R CMD build --keep-empty-dirs --no-resave-data DepecheR StartedAt: 2025-10-05 16:45:08 -0400 (Sun, 05 Oct 2025) EndedAt: 2025-10-05 16:46:26 -0400 (Sun, 05 Oct 2025) EllapsedTime: 77.8 seconds RetCode: 0 Status: OK PackageFile: DepecheR_1.25.0.tar.gz PackageFileSize: 2.561 MiB