Package: DepInfeR Version: 1.13.0 Command: /home/biocbuild/R/R/bin/R CMD check --install=check:DepInfeR.install-out.txt --library=/home/biocbuild/R/R/site-library --no-vignettes --timings DepInfeR_1.13.0.tar.gz StartedAt: 2025-10-21 07:23:09 -0000 (Tue, 21 Oct 2025) EndedAt: 2025-10-21 07:25:04 -0000 (Tue, 21 Oct 2025) EllapsedTime: 115.1 seconds RetCode: 0 Status: OK CheckDir: DepInfeR.Rcheck Warnings: 0