Package: DepInfeR Version: 1.13.0 Command: F:\biocbuild\bbs-3.22-bioc\R\bin\R.exe CMD check --no-multiarch --install=check:DepInfeR.install-out.txt --library=F:\biocbuild\bbs-3.22-bioc\R\library --no-vignettes --timings DepInfeR_1.13.0.tar.gz StartedAt: 2025-08-15 02:30:34 -0400 (Fri, 15 Aug 2025) EndedAt: 2025-08-15 02:32:36 -0400 (Fri, 15 Aug 2025) EllapsedTime: 121.8 seconds RetCode: 0 Status: OK CheckDir: DepInfeR.Rcheck Warnings: 0