Package: DepInfeR Version: 1.14.0 Command: /home/biocbuild/bbs-3.22-bioc/R/bin/R CMD INSTALL DepInfeR StartedAt: 2025-10-29 21:22:11 -0400 (Wed, 29 Oct 2025) EndedAt: 2025-10-29 21:22:38 -0400 (Wed, 29 Oct 2025) EllapsedTime: 26.9 seconds RetCode: 0 Status: OK