Package: DepInfeR Version: 1.14.0 Command: /Library/Frameworks/R.framework/Resources/bin/R CMD INSTALL DepInfeR StartedAt: 2025-11-17 16:57:18 -0500 (Mon, 17 Nov 2025) EndedAt: 2025-11-17 16:57:30 -0500 (Mon, 17 Nov 2025) EllapsedTime: 11.9 seconds RetCode: 0 Status: OK