Package: DepInfeR Version: 1.14.0 Command: /Library/Frameworks/R.framework/Resources/bin/R CMD check --install=check:DepInfeR.install-out.txt --library=/Library/Frameworks/R.framework/Resources/library --no-vignettes --timings DepInfeR_1.14.0.tar.gz StartedAt: 2025-11-18 06:31:14 -0500 (Tue, 18 Nov 2025) EndedAt: 2025-11-18 06:34:28 -0500 (Tue, 18 Nov 2025) EllapsedTime: 193.3 seconds RetCode: 0 Status: OK CheckDir: DepInfeR.Rcheck Warnings: 0