Package: DepInfeR Version: 1.14.0 Command: /Library/Frameworks/R.framework/Resources/bin/R CMD build --keep-empty-dirs --no-resave-data DepInfeR StartedAt: 2025-11-17 21:52:27 -0500 (Mon, 17 Nov 2025) EndedAt: 2025-11-17 21:54:02 -0500 (Mon, 17 Nov 2025) EllapsedTime: 94.3 seconds RetCode: 0 Status: OK PackageFile: DepInfeR_1.14.0.tar.gz PackageFileSize: 2.351 MiB