Package: DepInfeR Version: 1.13.0 Command: /Library/Frameworks/R.framework/Resources/bin/R CMD check --install=check:DepInfeR.install-out.txt --library=/Library/Frameworks/R.framework/Resources/library --no-vignettes --timings DepInfeR_1.13.0.tar.gz StartedAt: 2025-10-24 20:44:59 -0400 (Fri, 24 Oct 2025) EndedAt: 2025-10-24 20:46:54 -0400 (Fri, 24 Oct 2025) EllapsedTime: 114.2 seconds RetCode: 0 Status: OK CheckDir: DepInfeR.Rcheck Warnings: 0