Package: DelayedTensor Version: 1.15.0 Command: /home/biocbuild/R/R/bin/R CMD build --keep-empty-dirs --no-resave-data DelayedTensor StartedAt: 2025-10-17 00:35:00 -0000 (Fri, 17 Oct 2025) EndedAt: 2025-10-17 00:39:53 -0000 (Fri, 17 Oct 2025) EllapsedTime: 292.1 seconds RetCode: 0 Status: OK PackageFile: DelayedTensor_1.15.0.tar.gz PackageFileSize: 4.385 MiB