Package: DelayedTensor Version: 1.15.0 Command: F:\biocbuild\bbs-3.22-bioc\R\bin\R.exe CMD check --no-multiarch --install=check:DelayedTensor.install-out.txt --library=F:\biocbuild\bbs-3.22-bioc\R\library --no-vignettes --timings DelayedTensor_1.15.0.tar.gz StartedAt: 2025-08-15 02:26:27 -0400 (Fri, 15 Aug 2025) EndedAt: 2025-08-15 02:39:49 -0400 (Fri, 15 Aug 2025) EllapsedTime: 802.2 seconds RetCode: 0 Status: WARNINGS CheckDir: DelayedTensor.Rcheck Warnings: 2