Package: DelayedTensor Version: 1.15.0 Command: /Library/Frameworks/R.framework/Resources/bin/R CMD build --keep-empty-dirs --no-resave-data DelayedTensor StartedAt: 2025-10-19 16:52:08 -0400 (Sun, 19 Oct 2025) EndedAt: 2025-10-19 16:57:14 -0400 (Sun, 19 Oct 2025) EllapsedTime: 306.3 seconds RetCode: 0 Status: OK PackageFile: DelayedTensor_1.15.0.tar.gz PackageFileSize: 4.128 MiB