Package: DegNorm Version: 1.19.1 Command: F:\biocbuild\bbs-3.22-bioc\R\bin\R.exe CMD check --no-multiarch --install=check:DegNorm.install-out.txt --library=F:\biocbuild\bbs-3.22-bioc\R\library --no-vignettes --timings DegNorm_1.19.1.tar.gz StartedAt: 2025-08-15 02:22:41 -0400 (Fri, 15 Aug 2025) EndedAt: 2025-08-15 02:31:38 -0400 (Fri, 15 Aug 2025) EllapsedTime: 537.1 seconds RetCode: 0 Status: OK CheckDir: DegNorm.Rcheck Warnings: 0