Package: DegNorm Version: 1.19.1 Maintainer: Ji-Ping Wang MaintainerEmail: jzwang at northwestern.edu git_url: https://git.bioconductor.org/packages/DegNorm git_branch: devel git_last_commit: 4748842 git_last_commit_date: 2025-08-11 13:34:57 -0400 (Mon, 11 Aug 2025)