Package: DeepTarget Version: 1.3.0 Command: rm -rf DeepTarget.buildbin-libdir && mkdir DeepTarget.buildbin-libdir && /Users/biocbuild/BBS/utils/build-universal.sh DeepTarget_1.3.0.tar.gz /Library/Frameworks/R.framework/Resources/bin/R DeepTarget.buildbin-libdir StartedAt: 2025-09-30 22:37:12 -0400 (Tue, 30 Sep 2025) EndedAt: 2025-09-30 22:37:22 -0400 (Tue, 30 Sep 2025) EllapsedTime: 10.2 seconds RetCode: 0 Status: OK PackageFile: DeepTarget_1.3.0.tgz PackageFileSize: 2.84 MiB