Package: DeconRNASeq Version: 1.52.0 Command: /home/biocbuild/R/R/bin/R CMD build --keep-empty-dirs --no-resave-data DeconRNASeq StartedAt: 2025-11-18 00:58:11 -0000 (Tue, 18 Nov 2025) EndedAt: 2025-11-18 00:58:23 -0000 (Tue, 18 Nov 2025) EllapsedTime: 12.0 seconds RetCode: 1 Status: ERROR PackageFile: None PackageFileSize: NA