Package: DeconRNASeq Version: 1.52.0 Command: /Library/Frameworks/R.framework/Resources/bin/R CMD INSTALL DeconRNASeq StartedAt: 2025-10-31 15:10:46 -0400 (Fri, 31 Oct 2025) EndedAt: 2025-10-31 15:10:50 -0400 (Fri, 31 Oct 2025) EllapsedTime: 3.8 seconds RetCode: 0 Status: OK