Package: DeconRNASeq Version: 1.51.0 Command: /Library/Frameworks/R.framework/Resources/bin/R CMD check --install=check:DeconRNASeq.install-out.txt --library=/Library/Frameworks/R.framework/Resources/library --no-vignettes --timings DeconRNASeq_1.51.0.tar.gz StartedAt: 2025-09-10 19:57:29 -0400 (Wed, 10 Sep 2025) EndedAt: 2025-09-10 19:57:48 -0400 (Wed, 10 Sep 2025) EllapsedTime: 19.2 seconds RetCode: 0 Status: OK CheckDir: DeconRNASeq.Rcheck Warnings: 0