Package: DeconRNASeq Version: 1.52.0 Command: /Library/Frameworks/R.framework/Resources/bin/R CMD build --keep-empty-dirs --no-resave-data DeconRNASeq StartedAt: 2025-11-03 16:08:12 -0500 (Mon, 03 Nov 2025) EndedAt: 2025-11-03 16:08:16 -0500 (Mon, 03 Nov 2025) EllapsedTime: 4.0 seconds RetCode: 1 Status: ERROR PackageFile: None PackageFileSize: NA