Package: DeMixT Version: 1.25.0 Command: /home/biocbuild/R/R/bin/R CMD INSTALL DeMixT StartedAt: 2025-10-16 21:44:44 -0000 (Thu, 16 Oct 2025) EndedAt: 2025-10-16 21:46:08 -0000 (Thu, 16 Oct 2025) EllapsedTime: 83.4 seconds RetCode: 0 Status: OK