Package: DeMixT Version: 1.25.0 Command: /home/biocbuild/R/R/bin/R CMD check --install=check:DeMixT.install-out.txt --library=/home/biocbuild/R/R/site-library --no-vignettes --timings DeMixT_1.25.0.tar.gz StartedAt: 2025-10-21 07:21:11 -0000 (Tue, 21 Oct 2025) EndedAt: 2025-10-21 07:29:13 -0000 (Tue, 21 Oct 2025) EllapsedTime: 482.3 seconds RetCode: 0 Status: WARNINGS CheckDir: DeMixT.Rcheck Warnings: 3