Package: DeMAND Version: 1.39.0 Command: /home/biocbuild/bbs-3.22-bioc/R/bin/R CMD INSTALL DeMAND StartedAt: 2025-10-17 15:03:44 -0400 (Fri, 17 Oct 2025) EndedAt: 2025-10-17 15:03:54 -0400 (Fri, 17 Oct 2025) EllapsedTime: 9.7 seconds RetCode: 0 Status: OK