Package: DeMAND Version: 1.39.0 Command: /home/biocbuild/bbs-3.22-bioc/R/bin/R CMD build --keep-empty-dirs --no-resave-data --md5 DeMAND StartedAt: 2025-10-19 17:17:03 -0400 (Sun, 19 Oct 2025) EndedAt: 2025-10-19 17:17:09 -0400 (Sun, 19 Oct 2025) EllapsedTime: 6.0 seconds RetCode: 0 Status: OK PackageFile: DeMAND_1.39.0.tar.gz PackageFileSize: 319.1 KiB