Package: DeMAND Version: 1.39.0 Command: /Library/Frameworks/R.framework/Resources/bin/R CMD INSTALL DeMAND StartedAt: 2025-10-19 15:08:10 -0400 (Sun, 19 Oct 2025) EndedAt: 2025-10-19 15:08:48 -0400 (Sun, 19 Oct 2025) EllapsedTime: 38.4 seconds RetCode: 0 Status: OK