Package: DeMAND Version: 1.39.0 Command: /Library/Frameworks/R.framework/Resources/bin/R CMD check --install=check:DeMAND.install-out.txt --library=/Library/Frameworks/R.framework/Resources/library --no-vignettes --timings DeMAND_1.39.0.tar.gz StartedAt: 2025-10-19 21:38:48 -0400 (Sun, 19 Oct 2025) EndedAt: 2025-10-19 21:39:40 -0400 (Sun, 19 Oct 2025) EllapsedTime: 51.5 seconds RetCode: 0 Status: OK CheckDir: DeMAND.Rcheck Warnings: 0