Package: DeMAND Version: 1.39.0 Command: rm -rf DeMAND.buildbin-libdir && mkdir DeMAND.buildbin-libdir && /Users/biocbuild/BBS/utils/build-universal.sh DeMAND_1.39.0.tar.gz /Library/Frameworks/R.framework/Resources/bin/R DeMAND.buildbin-libdir StartedAt: 2025-10-20 03:05:31 -0400 (Mon, 20 Oct 2025) EndedAt: 2025-10-20 03:05:37 -0400 (Mon, 20 Oct 2025) EllapsedTime: 6.8 seconds RetCode: 0 Status: OK PackageFile: DeMAND_1.39.0.tgz PackageFileSize: 351.6 KiB