Package: Damsel Version: 1.6.0 Command: /Library/Frameworks/R.framework/Resources/bin/R CMD check --install=check:Damsel.install-out.txt --library=/Library/Frameworks/R.framework/Resources/library --no-vignettes --timings Damsel_1.6.0.tar.gz StartedAt: 2025-11-09 19:21:43 -0500 (Sun, 09 Nov 2025) EndedAt: 2025-11-09 19:23:12 -0500 (Sun, 09 Nov 2025) EllapsedTime: 89.0 seconds RetCode: 0 Status: WARNINGS CheckDir: Damsel.Rcheck Warnings: 1