Package: DaMiRseq Version: 2.21.0 Command: /Library/Frameworks/R.framework/Resources/bin/R CMD check --install=check:DaMiRseq.install-out.txt --library=/Library/Frameworks/R.framework/Resources/library --no-vignettes --timings DaMiRseq_2.21.0.tar.gz StartedAt: 2025-10-21 21:20:25 -0400 (Tue, 21 Oct 2025) EndedAt: 2025-10-21 21:27:52 -0400 (Tue, 21 Oct 2025) EllapsedTime: 447.7 seconds RetCode: 0 Status: OK CheckDir: DaMiRseq.Rcheck Warnings: 0