Package: DaMiRseq Version: 2.21.0 Command: /Library/Frameworks/R.framework/Resources/bin/R CMD INSTALL DaMiRseq StartedAt: 2025-10-24 15:30:05 -0400 (Fri, 24 Oct 2025) EndedAt: 2025-10-24 15:30:29 -0400 (Fri, 24 Oct 2025) EllapsedTime: 23.9 seconds RetCode: 0 Status: OK