Package: DTA Version: 2.55.0 Command: /home/biocbuild/R/R/bin/R CMD check --install=check:DTA.install-out.txt --library=/home/biocbuild/R/R/site-library --no-vignettes --timings DTA_2.55.0.tar.gz StartedAt: 2025-10-21 07:39:26 -0000 (Tue, 21 Oct 2025) EndedAt: 2025-10-21 07:39:27 -0000 (Tue, 21 Oct 2025) EllapsedTime: 1.0 seconds RetCode: 1 Status: ERROR CheckDir: DTA.Rcheck Warnings: NA