Package: DTA Version: 2.55.0 Command: /home/biocbuild/R/R/bin/R CMD build --keep-empty-dirs --no-resave-data DTA StartedAt: 2025-10-20 23:30:40 -0000 (Mon, 20 Oct 2025) EndedAt: 2025-10-20 23:37:05 -0000 (Mon, 20 Oct 2025) EllapsedTime: 385.1 seconds RetCode: 0 Status: OK PackageFile: DTA_2.55.0.tar.gz PackageFileSize: 10.69 MiB