Package: DSS Version: 2.58.0 Command: rm -rf DSS.buildbin-libdir && mkdir DSS.buildbin-libdir && /Users/biocbuild/BBS/utils/build-universal.sh DSS_2.58.0.tar.gz /Library/Frameworks/R.framework/Resources/bin/R DSS.buildbin-libdir StartedAt: 2025-11-18 17:34:56 -0500 (Tue, 18 Nov 2025) EndedAt: 2025-11-18 17:36:28 -0500 (Tue, 18 Nov 2025) EllapsedTime: 92.0 seconds RetCode: 0 Status: OK PackageFile: DSS_2.58.0.tgz PackageFileSize: 1.601 MiB