Package: DSS Version: 2.58.0 Command: /Library/Frameworks/R.framework/Resources/bin/R CMD check --install=check:DSS.install-out.txt --library=/Library/Frameworks/R.framework/Resources/library --no-vignettes --timings DSS_2.58.0.tar.gz StartedAt: 2025-11-18 05:52:28 -0500 (Tue, 18 Nov 2025) EndedAt: 2025-11-18 05:54:37 -0500 (Tue, 18 Nov 2025) EllapsedTime: 129.1 seconds RetCode: 0 Status: WARNINGS CheckDir: DSS.Rcheck Warnings: 1