Package: DSS Version: 2.58.0 Command: /Library/Frameworks/R.framework/Resources/bin/R CMD build --keep-empty-dirs --no-resave-data DSS StartedAt: 2025-11-17 20:51:39 -0500 (Mon, 17 Nov 2025) EndedAt: 2025-11-17 20:52:05 -0500 (Mon, 17 Nov 2025) EllapsedTime: 26.3 seconds RetCode: 0 Status: OK PackageFile: DSS_2.58.0.tar.gz PackageFileSize: 2.029 MiB