Package: DOSE Version: 4.3.0 Command: /Library/Frameworks/R.framework/Resources/bin/R CMD INSTALL DOSE StartedAt: 2025-10-03 15:22:52 -0400 (Fri, 03 Oct 2025) EndedAt: 2025-10-03 15:23:03 -0400 (Fri, 03 Oct 2025) EllapsedTime: 10.6 seconds RetCode: 0 Status: OK