Package: DNEA Version: 0.99.14 Command: rm -rf DNEA.buildbin-libdir && mkdir DNEA.buildbin-libdir && /Users/biocbuild/BBS/utils/build-universal.sh DNEA_0.99.14.tar.gz /Library/Frameworks/R.framework/Resources/bin/R DNEA.buildbin-libdir StartedAt: 2025-10-17 03:48:10 -0400 (Fri, 17 Oct 2025) EndedAt: 2025-10-17 03:48:59 -0400 (Fri, 17 Oct 2025) EllapsedTime: 48.5 seconds RetCode: 0 Status: OK PackageFile: DNEA_0.99.14.tgz PackageFileSize: 3.52 MiB