Package: DNABarcodes Version: 1.39.0 Command: /home/biocbuild/bbs-3.22-bioc/R/bin/R CMD INSTALL DNABarcodes StartedAt: 2025-10-19 15:06:05 -0400 (Sun, 19 Oct 2025) EndedAt: 2025-10-19 15:07:27 -0400 (Sun, 19 Oct 2025) EllapsedTime: 81.6 seconds RetCode: 0 Status: OK