Package: DNABarcodes Version: 1.39.0 Command: /Library/Frameworks/R.framework/Resources/bin/R CMD INSTALL DNABarcodes StartedAt: 2025-10-19 15:08:44 -0400 (Sun, 19 Oct 2025) EndedAt: 2025-10-19 15:10:02 -0400 (Sun, 19 Oct 2025) EllapsedTime: 77.7 seconds RetCode: 0 Status: OK