Package: DNABarcodes Version: 1.39.0 Command: /Library/Frameworks/R.framework/Resources/bin/R CMD build --keep-empty-dirs --no-resave-data DNABarcodes StartedAt: 2025-10-19 16:59:15 -0400 (Sun, 19 Oct 2025) EndedAt: 2025-10-19 17:01:00 -0400 (Sun, 19 Oct 2025) EllapsedTime: 104.9 seconds RetCode: 0 Status: OK PackageFile: DNABarcodes_1.39.0.tar.gz PackageFileSize: 347.8 KiB