Package: DNABarcodes Version: 1.39.0 Command: rm -rf DNABarcodes.buildbin-libdir && mkdir DNABarcodes.buildbin-libdir && /Users/biocbuild/BBS/utils/build-universal.sh DNABarcodes_1.39.0.tar.gz /Library/Frameworks/R.framework/Resources/bin/R DNABarcodes.buildbin-libdir StartedAt: 2025-10-20 03:06:40 -0400 (Mon, 20 Oct 2025) EndedAt: 2025-10-20 03:07:59 -0400 (Mon, 20 Oct 2025) EllapsedTime: 78.7 seconds RetCode: 0 Status: OK PackageFile: DNABarcodes_1.39.0.tgz PackageFileSize: 485.6 KiB