Package: DNABarcodes Version: 1.39.0 Command: /Library/Frameworks/R.framework/Resources/bin/R CMD check --install=check:DNABarcodes.install-out.txt --library=/Library/Frameworks/R.framework/Resources/library --no-vignettes --timings DNABarcodes_1.39.0.tar.gz StartedAt: 2025-10-19 19:26:45 -0400 (Sun, 19 Oct 2025) EndedAt: 2025-10-19 19:27:08 -0400 (Sun, 19 Oct 2025) EllapsedTime: 23.3 seconds RetCode: 0 Status: OK CheckDir: DNABarcodes.Rcheck Warnings: 0