Package: DNABarcodes Version: 1.39.0 Command: /Library/Frameworks/R.framework/Resources/bin/R CMD build --keep-empty-dirs --no-resave-data DNABarcodes StartedAt: 2025-10-20 16:14:03 -0400 (Mon, 20 Oct 2025) EndedAt: 2025-10-20 16:14:29 -0400 (Mon, 20 Oct 2025) EllapsedTime: 26.3 seconds RetCode: 0 Status: OK PackageFile: DNABarcodes_1.39.0.tar.gz PackageFileSize: 347.9 KiB