Package: DNABarcodeCompatibility Version: 1.25.0 Command: /home/biocbuild/R/R/bin/R CMD INSTALL DNABarcodeCompatibility StartedAt: 2025-10-16 21:18:45 -0000 (Thu, 16 Oct 2025) EndedAt: 2025-10-16 21:19:53 -0000 (Thu, 16 Oct 2025) EllapsedTime: 68.1 seconds RetCode: 0 Status: OK