Package: DNABarcodeCompatibility Version: 1.25.0 Command: /home/biocbuild/R/R/bin/R CMD build --keep-empty-dirs --no-resave-data DNABarcodeCompatibility StartedAt: 2025-10-20 23:26:31 -0000 (Mon, 20 Oct 2025) EndedAt: 2025-10-20 23:28:15 -0000 (Mon, 20 Oct 2025) EllapsedTime: 104.0 seconds RetCode: 0 Status: OK PackageFile: DNABarcodeCompatibility_1.25.0.tar.gz PackageFileSize: 285 KiB