Package: DNABarcodeCompatibility Version: 1.25.0 Command: /home/biocbuild/bbs-3.22-bioc/R/bin/R CMD INSTALL DNABarcodeCompatibility StartedAt: 2025-10-20 15:08:04 -0400 (Mon, 20 Oct 2025) EndedAt: 2025-10-20 15:08:44 -0400 (Mon, 20 Oct 2025) EllapsedTime: 39.4 seconds RetCode: 0 Status: OK