Package: DNABarcodeCompatibility Version: 1.25.0 Command: /home/biocbuild/bbs-3.22-bioc/R/bin/R CMD build --keep-empty-dirs --no-resave-data --md5 DNABarcodeCompatibility StartedAt: 2025-10-20 17:19:28 -0400 (Mon, 20 Oct 2025) EndedAt: 2025-10-20 17:20:37 -0400 (Mon, 20 Oct 2025) EllapsedTime: 69.0 seconds RetCode: 0 Status: OK PackageFile: DNABarcodeCompatibility_1.25.0.tar.gz PackageFileSize: 262.1 KiB