Package: DNABarcodeCompatibility Version: 1.25.0 Command: /Library/Frameworks/R.framework/Resources/bin/R CMD INSTALL DNABarcodeCompatibility StartedAt: 2025-10-20 15:10:51 -0400 (Mon, 20 Oct 2025) EndedAt: 2025-10-20 15:11:19 -0400 (Mon, 20 Oct 2025) EllapsedTime: 27.8 seconds RetCode: 0 Status: OK