Package: DNABarcodeCompatibility Version: 1.25.0 Command: /Library/Frameworks/R.framework/Resources/bin/R CMD INSTALL DNABarcodeCompatibility StartedAt: 2025-10-19 15:05:05 -0400 (Sun, 19 Oct 2025) EndedAt: 2025-10-19 15:05:14 -0400 (Sun, 19 Oct 2025) EllapsedTime: 9.2 seconds RetCode: 0 Status: OK